BEGIN:VCALENDAR
VERSION:2.0
PRODID:-//hacksw/handcal//NONSGML v1.0//EN
BEGIN:VEVENT
SUMMARY:INSTALLATION DES CIBLES A MILLEMONT
UID:93662a22-bd8a-42c8-bb2d-f3e3e411f3a5
DTSTART:20260627T080000Z
DTEND:20260627T150000Z
LOCATION:Localisation CHATEAU DE MILLEMONT 78940 MILLEMONT
CATEGORIES:Sportif
STATUS:
DESCRIPTION:
 
 <p>🏹 Derniere ligne droite ! 🏹</p>
 
 <p>Place a
 l’installation des cibles 3D sur le terrain de Millemont :<br>
 24
 cibles a positionner a travers toute la foret 🌿</p>
 
 <p>Un beau
 defi collectif nous attend ! 💪</p>
 
 <p>Votre aide est precieuse,
 alors mobilisez-vous et venez nous preter main forte dans la bonne
 humeur !</p>
 
 <p>Merci d’avance a tous 🙌</p>
URL;VALUE=URI:https://www.asbatiralarc.fr/evenements/2026/06/27/installation-des-cibles-a-millemont-2438018
END:VEVENT
END:VCALENDAR
