BEGIN:VCALENDAR
VERSION:2.0
PRODID:-//hacksw/handcal//NONSGML v1.0//EN
BEGIN:VEVENT
SUMMARY:CONCOURS 3D A GUIRY
UID:f30ac835-e019-4052-9e9b-ef69e368f0c6
DTSTART:20260523T220000Z
DTEND:20260524T220000Z
LOCATION:Localisation   
CATEGORIES:Sportif
STATUS:
DESCRIPTION:<p><strong>LE CLUB DES ARCHERS DE GUIRY</strong> organise
 le 24 mai 2026 dans le bois de Morval le championnat départemental
 de Tir 3D du Val d’Oise (95), concours sélectif pour le
 championnat de France 2026.</p>
 
 <p><strong>1 X 24 cibles (Départ
 simultané / 144 archers maximum)</strong></p>
 
 <p>La priorité
 sera donnée aux archers du département
 (95) jusqu’au 09/05/2026</p>
 
 <p><strong>Greffe</strong> le matin
 à partir de : <strong>7 h
 30</strong></p>
 
 <p><strong>Départ</strong> vers les cibles :
 <strong>8 h 30</strong></p>
 
 <p> </p>
 
 <p><strong>Lieu de
 compétition</strong> : Rendez-vous au club à Guiry en Vexin, 32
 rue St Nicolas</p>
 
 <p><strong>Restauration</strong> : des
 sandwichs, frites et wings de poulet</p>
 
 <p> </p>
 
 <p><span
 style="color:#cc0000;"><strong><u>INSCRIPTIONS</u></strong></span></p>
 
 <p>Adultes
 : 12€   -   Jeunes : 10€</p>
 
 <p>Préinscriptions requises par
 email :
 <strong>archersdeguiry@orange.fr</strong></p>
 
 <p>https://club-des-archers-de-guiry.jimdosite.com</p>
 
 <p>Les
 règlements par chèque se feront à l’ordre de
 : « <strong>club des archers de
 Guiry</strong> »</p>
 
 <p> </p>
 
 <p><span
 style="color:#cc0000;"><strong>INSCRIPTION
 INDIVIDUELLE</strong></span></p>
 
 <p><span
 style="color:#cc0000;"><strong>INSCRIPTION REMBOURSEE PAR LE CLUB
 (sur presentation d'un recu) </strong></span></p>
URL;VALUE=URI:https://www.asbatiralarc.fr/evenements/2026/05/24/concours-3d-a-guiry-2444127
END:VEVENT
END:VCALENDAR
